BEGIN:VCALENDAR
VERSION:2.0
PRODID:-//Renaissance Martial Arts - ECPv4.2.7//NONSGML v1.0//EN
CALSCALE:GREGORIAN
METHOD:PUBLISH
X-WR-CALNAME:Renaissance Martial Arts
X-ORIGINAL-URL:http://www.renmartialarts.com
X-WR-CALDESC:Events for Renaissance Martial Arts
BEGIN:VEVENT
DTSTART;VALUE=DATE:20161015
DTEND;VALUE=DATE:20161016
DTSTAMP:20260419T175023
CREATED:20160906
LAST-MODIFIED:20160910
UID:770-1476489600-1476662399@www.renmartialarts.com
SUMMARY:2016 Renaissance Martial Arts Festival
DESCRIPTION:[caption id="attachment_777" align="alignleft" width="400"] Click on the picture to download the flyer (PDF)[/caption]\n\nJoin us for the 16th Annual Renaissance Martial Arts Festival: two days of intensive workshops covering a wide range of Martial Systems from around the world. Its a chance to get exposed to new ideas and meet new martial “family.” The festival is open to all ranks and experience levels.\n\nThis year's Festival will be held on Saturday October 15rd & Sunday October 16th at Martial Arts America\, 1270 Creek Street\, Webster NY. Click here to download the flyer.\n\nEach day will feature multiple sessions happening one after the other. Everyone trains together as a single group and there is plenty of 1:1 time with each instructor. On Saturday night there will also be a group dinner ($20).\nRegister Online\n[camptix]\n\nDay of registration is also available\, however space is limited\, so we recommend purchasing tickets ahead of time to ensure you reserve a spot.\nFor group ticket discounts\, call Sifu Mark Cardona at 585.737.5707 or email us at renmartialarts@gmail.com.\n\nLodging\nFor those coming from out of town\, we have arrange for a special group rate ($68/night for a double room) at the Super 8 Webster (located just down the street from our school). In order to receive the discount you must book by phone and request the "Renaissance Martial Arts Festival Rate."\nSuper 8 Webster\n2450 Empire Blvd\, Rochester\, NY\, US\, 14624 (map)\nPhone: (585) 671-6990
URL:http://www.renmartialarts.com/event/2016-renaissance-martial-arts-festival/
LOCATION:1270 Creek Street\, Webster\, NY\, 14580\, United States
ORGANIZER;CN="Mark%20Cardona":MAILTO:renMartialArts@gmail.com
END:VEVENT
END:VCALENDAR